{"text_format":"1","workbook":"xlsx","n_sheets":3,"sheets":["DeclarationOrga","Suivi","Convocation"],"not_rendered":{"charts":0,"images":1,"macros":1,"external_links":0,"defined_names":4,"comments":1,"pivot_tables":0},"unopened":[],"bounds":{"document_bytes":16777216,"sheet_cells":100000,"rows_first":2000,"rows_last":500,"rows_between":2000,"halvings":0,"cell_chars":16384,"cell_head_chars":4096},"cells_cut":0,"cells_raw":0,"read":"whole","date_system":"1900"}

{"sheet":"DeclarationOrga","index":0,"n_rows":51,"n_cols":9,"rows_kept":51,"cut":false,"hidden":false,"merged":[[39,3,39,4],[39,5,39,6],[40,3,40,4],[40,5,40,6],[50,1,50,4],[41,3,41,4],[41,5,41,6],[42,3,42,4],[42,5,42,6],[47,1,47,4],[50,5,50,6],[47,5,47,6],[45,0,45,6],[44,0,44,6],[36,3,36,4],[36,5,36,6],[37,3,37,4],[37,5,37,6],[38,3,38,4],[38,5,38,6],[33,3,33,4],[33,5,33,6],[34,3,34,4],[34,5,34,6],[35,3,35,4],[35,5,35,6],[30,3,30,4],[30,5,30,6],[31,3,31,4],[31,5,31,6],[32,3,32,4],[32,5,32,6],[27,3,27,4],[27,5,27,6],[28,3,28,4],[28,5,28,6],[29,3,29,4],[29,5,29,6],[24,3,24,4],[24,5,24,6],[25,3,25,4],[25,5,25,6],[26,3,26,4],[26,5,26,6],[21,3,21,4],[21,5,21,6],[22,3,22,4],[22,5,22,6],[23,3,23,4],[23,5,23,6],[18,3,18,4],[18,5,18,6],[19,3,19,4],[19,5,19,6],[20,3,20,4],[20,5,20,6],[15,3,15,4],[15,5,15,6],[16,3,16,4],[16,5,16,6],[17,3,17,4],[17,5,17,6],[12,3,12,4],[12,5,12,6],[13,3,13,4],[13,5,13,6],[14,3,14,4],[14,5,14,6],[7,1,7,3],[0,0,1,6],[4,1,4,6],[5,1,5,3],[6,1,6,3],[5,4,10,6],[2,0,2,5],[9,1,9,3]]}
["Déclaration \"Session de certification numérique PIX ou IA\""]
[]
["J'organise une session de certification suivant les informations ci-dessous :",null,null,null,null,null,"PIX"]
[]
[null," CAMILLE JENATZY 75018 PARIS"]
["Classe"]
["Professeur"]
["Date "]
["Horaire de",null,"à"]
["Salle"]
[null,null,null,null,null,null,null,null,"TCAPM PIX"]
[null,"Liste des élèves concernés :",null,null,null,null,null,null,"TCAPOLA PIX"]
[null,null,"N°","NOM",null,"Prénoms",null,null,"TCAPOLB PIX"]
[null,null,1,null,null,null,null,null,"TMVA PIX"]
[null,null,2,null,null,null,null,null,"TMVB PIX"]
[null,null,3,null,null,null,null,null,"TMVC PIX"]
[null,null,4,null,null,null,null,null,"2MVA IA"]
[null,null,5,null,null,null,null,null,"2MVB IA"]
[null,null,6,null,null,null,null,null,"2MVC IA"]
[null,null,7,null,null,null,null,null,"2GATL IA"]
[null,null,8,null,null,null,null,null,"2CAPM IA"]
[null,null,9,null,null,null,null,null,"2CAPOLA IA"]
[null,null,10,null,null,null,null,null,"2CAPOB IA"]
[null,null,11]
[null,null,12]
[null,null,13]
[null,null,14]
[null,null,15]
[null,null,16]
[null,null,17]
[null,null,18]
[null,null,19]
[null,null,20]
[null,null,21]
[null,null,22]
[null,null,23]
[null,null,24]
[null,null,25]
[null,null,26]
[null,null,27]
[null,null,28]
[null,null,29]
[null,null,30]
[]
["Merci d'envoyer ce document via l'ENT au référent numérique pour qu'il puisse créer votre session de certificatin PIX ou IA"]
[]
[]
[null,"Fait à Paris, le",null,null,null,{"$f":"NOW()","v":"2026-02-17T13:43:19.820"}]
[]
[]
[null,"Nom de l'enseignant(e) chargé(e) de la surveillance"]

{"sheet":"Suivi","index":1,"n_rows":56,"n_cols":8,"rows_kept":56,"cut":false,"hidden":false,"merged":[[52,1,52,3],[53,1,53,3],[54,1,54,3],[55,1,55,3],[46,1,46,3],[47,1,47,3],[48,1,48,3],[49,1,49,3],[50,1,50,3],[51,1,51,3],[45,1,45,3],[33,2,33,4],[34,2,34,4],[36,2,36,4],[39,0,39,3],[39,4,39,5],[40,1,40,3],[41,1,41,3],[42,1,42,3],[43,1,43,3],[44,1,44,3],[32,2,32,4],[19,1,19,3],[20,1,20,3],[21,1,21,3],[22,1,22,3],[23,1,23,3],[24,1,24,3],[25,1,25,3],[26,1,26,3],[27,1,27,3],[28,1,29,5],[31,1,31,5],[18,1,18,3],[8,2,8,4],[11,0,11,3],[11,4,11,5],[12,1,12,3],[13,1,13,3],[14,1,14,3],[15,1,15,3],[16,1,16,3],[17,1,17,3],[6,2,6,4],[0,1,1,5],[4,2,4,4],[5,2,5,4],[3,1,3,5]]}
[null,"Feuille d'émargement convocation Certification PIX-IA"]
[]
[]
[null,{"$f":"DeclarationOrga!B$5","v":" CAMILLE JENATZY 75018 PARIS"}]
[null,"Classe :",{"$f":"DeclarationOrga!B$6","v":0}]
[null,"Professeur : ",{"$f":"DeclarationOrga!B$7","v":0}]
[null,"Date : ",{"$f":"DeclarationOrga!B$8","v":"00:00:00"}]
[null,"Horaire de",{"$f":"DeclarationOrga!B9","v":0},"à",{"$f":"DeclarationOrga!D$9","v":0}]
[null,"Salle :",{"$f":"DeclarationOrga!B$10","v":0}]
[]
[]
["IDENTIFICATION",null,null,null,"REMISE CONVOCATION PASSATION PIX-IA"]
["N°","Nom & Prénom",null,null,"Date","Signature de l'élève"]
[{"$f":"DeclarationOrga!C14","v":1},{"$f":"CONCATENATE(DeclarationOrga!D14,\"\n\",DeclarationOrga!F14)","v":"\n"}]
[{"$f":"DeclarationOrga!C15","v":2},{"$f":"CONCATENATE(DeclarationOrga!D15,\"\n\",DeclarationOrga!F15)","v":"\n"}]
[{"$f":"DeclarationOrga!C16","v":3},{"$f":"CONCATENATE(DeclarationOrga!D16,\"\n\",DeclarationOrga!F16)","v":"\n"}]
[{"$f":"DeclarationOrga!C17","v":4},{"$f":"CONCATENATE(DeclarationOrga!D17,\"\n\",DeclarationOrga!F17)","v":"\n"}]
[{"$f":"DeclarationOrga!C18","v":5},{"$f":"CONCATENATE(DeclarationOrga!D18,\"\n\",DeclarationOrga!F18)","v":"\n"}]
[{"$f":"DeclarationOrga!C19","v":6},{"$f":"CONCATENATE(DeclarationOrga!D19,\"\n\",DeclarationOrga!F19)","v":"\n"}]
[{"$f":"DeclarationOrga!C20","v":7},{"$f":"CONCATENATE(DeclarationOrga!D20,\"\n\",DeclarationOrga!F20)","v":"\n"}]
[{"$f":"DeclarationOrga!C21","v":8},{"$f":"CONCATENATE(DeclarationOrga!D21,\"\n\",DeclarationOrga!F21)","v":"\n"}]
[{"$f":"DeclarationOrga!C22","v":9},{"$f":"CONCATENATE(DeclarationOrga!D22,\"\n\",DeclarationOrga!F22)","v":"\n"}]
[{"$f":"DeclarationOrga!C23","v":10},{"$f":"CONCATENATE(DeclarationOrga!D23,\"\n\",DeclarationOrga!F23)","v":"\n"}]
[{"$f":"DeclarationOrga!C24","v":11},{"$f":"CONCATENATE(DeclarationOrga!D24,\"\n\",DeclarationOrga!F24)","v":"\n"}]
[{"$f":"DeclarationOrga!C25","v":12},{"$f":"CONCATENATE(DeclarationOrga!D25,\"\n\",DeclarationOrga!F25)","v":"\n"}]
[{"$f":"DeclarationOrga!C26","v":13},{"$f":"CONCATENATE(DeclarationOrga!D26,\"\n\",DeclarationOrga!F26)","v":"\n"}]
[{"$f":"DeclarationOrga!C27","v":14},{"$f":"CONCATENATE(DeclarationOrga!D27,\"\n\",DeclarationOrga!F27)","v":"\n"}]
[{"$f":"DeclarationOrga!C28","v":15},{"$f":"CONCATENATE(DeclarationOrga!D28,\"\n\",DeclarationOrga!F28)","v":"\n"}]
[null,"Feuille d'émargement convocation Certification PIX-IA"]
[]
[]
[null,{"$f":"DeclarationOrga!B$5","v":" CAMILLE JENATZY 75018 PARIS"}]
[null,"Classe :",{"$f":"DeclarationOrga!B$6","v":0}]
[null,"Professeur : ",{"$f":"DeclarationOrga!B$7","v":0}]
[null,"Date : ",{"$f":"DeclarationOrga!B$8","v":"00:00:00"}]
[null,"Horaire de",{"$f":"DeclarationOrga!B9","v":0},"à",{"$f":"DeclarationOrga!D$9","v":0}]
[null,"Salle :",{"$f":"DeclarationOrga!B$10","v":0}]
[null,null,null,null,null,null,null,"PIX"]
[]
["IDENTIFICATION",null,null,null,"REMISE CONVOCATION PASSATION PIX-IA",null,null,"IA"]
["N°","Nom & Prénom",null,null,"Date","Signature de l'élève"]
[{"$f":"DeclarationOrga!C29","v":16},{"$f":"CONCATENATE(DeclarationOrga!D29,\"\n\",DeclarationOrga!F29)","v":"\n"}]
[{"$f":"DeclarationOrga!C30","v":17},{"$f":"CONCATENATE(DeclarationOrga!D30,\"\n\",DeclarationOrga!F30)","v":"\n"}]
[{"$f":"DeclarationOrga!C31","v":18},{"$f":"CONCATENATE(DeclarationOrga!D31,\"\n\",DeclarationOrga!F31)","v":"\n"}]
[{"$f":"DeclarationOrga!C32","v":19},{"$f":"CONCATENATE(DeclarationOrga!D32,\"\n\",DeclarationOrga!F32)","v":"\n"}]
[{"$f":"DeclarationOrga!C33","v":20},{"$f":"CONCATENATE(DeclarationOrga!D33,\"\n\",DeclarationOrga!F33)","v":"\n"}]
[{"$f":"DeclarationOrga!C34","v":21},{"$f":"CONCATENATE(DeclarationOrga!D34,\"\n\",DeclarationOrga!F34)","v":"\n"}]
[{"$f":"DeclarationOrga!C35","v":22},{"$f":"CONCATENATE(DeclarationOrga!D35,\"\n\",DeclarationOrga!F35)","v":"\n"}]
[{"$f":"DeclarationOrga!C36","v":23},{"$f":"CONCATENATE(DeclarationOrga!D36,\"\n\",DeclarationOrga!F36)","v":"\n"}]
[{"$f":"DeclarationOrga!C37","v":24},{"$f":"CONCATENATE(DeclarationOrga!D37,\"\n\",DeclarationOrga!F37)","v":"\n"}]
[{"$f":"DeclarationOrga!C38","v":25},{"$f":"CONCATENATE(DeclarationOrga!D38,\"\n\",DeclarationOrga!F38)","v":"\n"}]
[{"$f":"DeclarationOrga!C39","v":26},{"$f":"CONCATENATE(DeclarationOrga!D39,\"\n\",DeclarationOrga!F39)","v":"\n"}]
[{"$f":"DeclarationOrga!C40","v":27},{"$f":"CONCATENATE(DeclarationOrga!D40,\"\n\",DeclarationOrga!F40)","v":"\n"}]
[{"$f":"DeclarationOrga!C41","v":28},{"$f":"CONCATENATE(DeclarationOrga!D41,\"\n\",DeclarationOrga!F41)","v":"\n"}]
[{"$f":"DeclarationOrga!C42","v":29},{"$f":"CONCATENATE(DeclarationOrga!D42,\"\n\",DeclarationOrga!F42)","v":"\n"}]
[{"$f":"DeclarationOrga!C43","v":30},{"$f":"CONCATENATE(DeclarationOrga!D43,\"\n\",DeclarationOrga!F43)","v":"\n"}]

{"sheet":"Convocation","index":2,"n_rows":308,"n_cols":14,"rows_kept":308,"cut":false,"hidden":false,"merged":[[312,12,312,13],[313,0,313,3],[313,8,313,11],[310,0,310,3],[310,4,310,5],[310,8,310,11],[310,12,310,13],[311,0,311,3],[311,8,311,11],[304,1,304,3],[304,9,304,11],[305,1,305,3],[305,9,305,11],[314,0,314,3],[314,8,314,11],[312,0,312,3],[312,4,312,5],[312,8,312,11],[301,0,301,1],[301,2,301,5],[301,8,301,9],[301,10,301,13],[302,0,302,5],[302,8,302,13],[293,0,293,3],[293,8,293,11],[294,0,294,3],[294,8,294,11],[295,0,296,13],[297,0,300,3],[297,4,300,5],[297,6,314,7],[297,8,300,11],[297,12,300,13],[306,1,306,4],[306,9,306,12],[309,0,309,3],[309,4,309,5],[309,8,309,11],[309,12,309,13],[303,0,303,5],[303,8,303,13],[292,0,292,3],[292,4,292,5],[292,8,292,11],[292,12,292,13],[289,0,289,3],[289,4,289,5],[289,8,289,11],[289,12,289,13],[290,0,290,3],[290,4,290,5],[290,8,290,11],[290,12,290,13],[274,0,274,3],[274,8,274,11],[275,0,276,13],[277,0,280,3],[277,4,280,5],[277,6,294,7],[277,8,280,11],[277,12,280,13],[281,0,281,1],[281,2,281,5],[284,1,284,3],[284,9,284,11],[285,1,285,3],[285,9,285,11],[286,1,286,4],[286,9,286,12],[281,8,281,9],[281,10,281,13],[282,0,282,5],[282,8,282,13],[283,0,283,5],[283,8,283,13],[291,0,291,3],[291,8,291,11],[264,1,264,3],[264,9,264,11],[265,1,265,3],[265,9,265,11],[272,0,272,3],[272,4,272,5],[272,8,272,11],[272,12,272,13],[273,0,273,3],[273,8,273,11],[270,0,270,3],[270,4,270,5],[270,8,270,11],[270,12,270,13],[271,0,271,3],[271,8,271,11],[261,0,261,1],[261,2,261,5],[261,8,261,9],[261,10,261,13],[262,0,262,5],[262,8,262,13],[253,0,253,3],[253,8,253,11],[254,0,254,3],[254,8,254,11],[255,0,256,13],[257,0,260,3],[257,4,260,5],[257,6,274,7],[257,8,260,11],[257,12,260,13],[266,1,266,4],[266,9,266,12],[269,0,269,3],[269,4,269,5],[269,8,269,11],[269,12,269,13],[263,0,263,5],[263,8,263,13],[251,8,251,11],[252,0,252,3],[252,4,252,5],[252,8,252,11],[252,12,252,13],[249,0,249,3],[249,4,249,5],[249,8,249,11],[249,12,249,13],[250,0,250,3],[250,4,250,5],[250,8,250,11],[250,12,250,13],[234,0,234,3],[234,8,234,11],[235,0,235,3],[235,8,235,11],[237,0,240,3],[237,4,240,5],[237,6,254,7],[237,8,240,11],[243,0,243,5],[243,8,243,13],[244,1,244,3],[244,9,244,11],[245,1,245,3],[245,9,245,11],[246,1,246,4],[246,9,246,12],[237,12,240,13],[241,0,241,1],[241,2,241,5],[241,8,241,9],[241,10,241,13],[242,0,242,5],[242,8,242,13],[251,0,251,3],[233,0,233,3],[233,4,233,5],[233,8,233,11],[233,12,233,13],[230,0,230,3],[230,4,230,5],[230,8,230,11],[230,12,230,13],[231,0,231,3],[231,4,231,5],[231,8,231,11],[231,12,231,13],[215,0,215,3],[215,8,215,11],[216,0,217,13],[218,0,221,3],[218,4,221,5],[218,6,235,7],[218,8,221,11],[218,12,221,13],[222,0,222,1],[222,2,222,5],[225,1,225,3],[225,9,225,11],[226,1,226,3],[226,9,226,11],[227,1,227,4],[227,9,227,12],[222,8,222,9],[222,10,222,13],[223,0,223,5],[223,8,223,13],[224,0,224,5],[224,8,224,13],[232,0,232,3],[232,8,232,11],[205,1,205,3],[205,9,205,11],[206,1,206,3],[206,9,206,11],[213,0,213,3],[213,4,213,5],[213,8,213,11],[213,12,213,13],[214,0,214,3],[214,8,214,11],[211,0,211,3],[211,4,211,5],[211,8,211,11],[211,12,211,13],[212,0,212,3],[212,8,212,11],[202,0,202,1],[202,2,202,5],[202,8,202,9],[202,10,202,13],[203,0,203,5],[203,8,203,13],[194,0,194,3],[194,8,194,11],[195,0,195,3],[195,8,195,11],[196,0,197,13],[198,0,201,3],[198,4,201,5],[198,6,215,7],[198,8,201,11],[198,12,201,13],[207,1,207,4],[207,9,207,12],[210,0,210,3],[210,4,210,5],[210,8,210,11],[210,12,210,13],[204,0,204,5],[204,8,204,13],[193,0,193,3],[193,4,193,5],[193,8,193,11],[193,12,193,13],[190,0,190,3],[190,4,190,5],[190,8,190,11],[190,12,190,13],[191,0,191,3],[191,4,191,5],[191,8,191,11],[191,12,191,13],[175,0,175,3],[175,8,175,11],[176,0,177,13],[178,0,181,3],[178,4,181,5],[178,6,195,7],[178,8,181,11],[178,12,181,13],[182,0,182,1],[182,2,182,5],[185,1,185,3],[185,9,185,11],[186,1,186,3],[186,9,186,11],[187,1,187,4],[187,9,187,12],[182,8,182,9],[182,10,182,13],[183,0,183,5],[183,8,183,13],[184,0,184,5],[184,8,184,13],[192,0,192,3],[192,8,192,11],[163,8,163,13],[173,0,173,3],[173,4,173,5],[173,8,173,11],[173,12,173,13],[174,0,174,3],[174,8,174,11],[171,0,171,3],[171,4,171,5],[171,8,171,11],[171,12,171,13],[172,0,172,3],[172,8,172,11],[156,0,156,3],[156,8,156,11],[158,0,161,3],[158,4,161,5],[158,6,175,7],[158,8,161,11],[164,0,164,5],[164,8,164,13],[165,1,165,3],[165,9,165,11],[166,1,166,3],[166,9,166,11],[167,1,167,4],[167,9,167,12],[170,0,170,3],[170,4,170,5],[170,8,170,11],[170,12,170,13],[158,12,161,13],[162,0,162,1],[162,2,162,5],[162,8,162,9],[162,10,162,13],[163,0,163,5],[146,1,146,3],[146,9,146,11],[147,1,147,3],[147,9,147,11],[154,0,154,3],[154,4,154,5],[154,8,154,11],[154,12,154,13],[155,0,155,3],[155,8,155,11],[152,0,152,3],[152,4,152,5],[152,8,152,11],[152,12,152,13],[153,0,153,3],[153,8,153,11],[143,0,143,1],[143,2,143,5],[143,8,143,9],[143,10,143,13],[144,0,144,5],[144,8,144,13],[135,0,135,3],[135,8,135,11],[136,0,136,3],[136,8,136,11],[137,0,138,13],[139,0,142,3],[139,4,142,5],[139,6,156,7],[139,8,142,11],[139,12,142,13],[148,1,148,4],[148,9,148,12],[151,0,151,3],[151,4,151,5],[151,8,151,11],[151,12,151,13],[145,0,145,5],[145,8,145,13],[134,0,134,3],[134,4,134,5],[134,8,134,11],[134,12,134,13],[131,0,131,3],[131,4,131,5],[131,8,131,11],[131,12,131,13],[132,0,132,3],[132,4,132,5],[132,8,132,11],[132,12,132,13],[116,0,116,3],[116,8,116,11],[117,0,118,13],[119,0,122,3],[119,4,122,5],[119,6,136,7],[119,8,122,11],[119,12,122,13],[123,0,123,1],[123,2,123,5],[126,1,126,3],[126,9,126,11],[127,1,127,3],[127,9,127,11],[128,1,128,4],[128,9,128,12],[123,8,123,9],[123,10,123,13],[124,0,124,5],[124,8,124,13],[125,0,125,5],[125,8,125,13],[133,0,133,3],[133,8,133,11],[106,1,106,3],[106,9,106,11],[107,1,107,3],[107,9,107,11],[114,0,114,3],[114,4,114,5],[114,8,114,11],[114,12,114,13],[115,0,115,3],[115,8,115,11],[112,0,112,3],[112,4,112,5],[112,8,112,11],[112,12,112,13],[113,0,113,3],[113,8,113,11],[103,0,103,1],[103,2,103,5],[103,8,103,9],[103,10,103,13],[104,0,104,5],[104,8,104,13],[95,0,95,3],[95,8,95,11],[96,0,96,3],[96,8,96,11],[97,0,98,13],[99,0,102,3],[99,4,102,5],[99,6,116,7],[99,8,102,11],[99,12,102,13],[108,1,108,4],[108,9,108,12],[111,0,111,3],[111,4,111,5],[111,8,111,11],[111,12,111,13],[105,0,105,5],[105,8,105,13],[93,8,93,11],[94,0,94,3],[94,4,94,5],[94,8,94,11],[94,12,94,13],[91,0,91,3],[91,4,91,5],[91,8,91,11],[91,12,91,13],[92,0,92,3],[92,4,92,5],[92,8,92,11],[92,12,92,13],[76,0,76,3],[76,8,76,11],[77,0,77,3],[77,8,77,11],[79,0,82,3],[79,4,82,5],[79,6,96,7],[79,8,82,11],[85,0,85,5],[85,8,85,13],[86,1,86,3],[86,9,86,11],[87,1,87,3],[87,9,87,11],[88,1,88,4],[88,9,88,12],[79,12,82,13],[83,0,83,1],[83,2,83,5],[83,8,83,9],[83,10,83,13],[84,0,84,5],[84,8,84,13],[93,0,93,3],[75,0,75,3],[75,4,75,5],[75,8,75,11],[75,12,75,13],[72,0,72,3],[72,4,72,5],[72,8,72,11],[72,12,72,13],[73,0,73,3],[73,4,73,5],[73,8,73,11],[73,12,73,13],[57,0,57,3],[57,8,57,11],[58,0,59,13],[60,0,63,3],[60,4,63,5],[60,6,77,7],[60,8,63,11],[60,12,63,13],[64,0,64,1],[64,2,64,5],[67,1,67,3],[67,9,67,11],[68,1,68,3],[68,9,68,11],[69,1,69,4],[69,9,69,12],[64,8,64,9],[64,10,64,13],[65,0,65,5],[65,8,65,13],[66,0,66,5],[66,8,66,13],[74,0,74,3],[74,8,74,11],[47,1,47,3],[47,9,47,11],[48,1,48,3],[48,9,48,11],[55,0,55,3],[55,4,55,5],[55,8,55,11],[55,12,55,13],[56,0,56,3],[56,8,56,11],[53,0,53,3],[53,4,53,5],[53,8,53,11],[53,12,53,13],[54,0,54,3],[54,8,54,11],[44,0,44,1],[44,2,44,5],[44,8,44,9],[44,10,44,13],[45,0,45,5],[45,8,45,13],[36,0,36,3],[36,8,36,11],[37,0,37,3],[37,8,37,11],[38,0,39,13],[40,0,43,3],[40,4,43,5],[40,6,57,7],[40,8,43,11],[40,12,43,13],[49,1,49,4],[49,9,49,12],[52,0,52,3],[52,4,52,5],[52,8,52,11],[52,12,52,13],[46,0,46,5],[46,8,46,13],[35,0,35,3],[35,4,35,5],[35,8,35,11],[35,12,35,13],[32,0,32,3],[32,4,32,5],[32,8,32,11],[32,12,32,13],[33,0,33,3],[33,4,33,5],[33,8,33,11],[33,12,33,13],[17,0,17,3],[17,8,17,11],[18,0,19,13],[20,0,23,3],[20,4,23,5],[20,6,37,7],[20,8,23,11],[20,12,23,13],[24,0,24,1],[24,2,24,5],[27,1,27,3],[27,9,27,11],[28,1,28,3],[28,9,28,11],[29,1,29,4],[29,9,29,12],[24,8,24,9],[24,10,24,13],[25,0,25,5],[25,8,25,13],[26,0,26,5],[26,8,26,13],[34,0,34,3],[34,8,34,11],[15,4,15,5],[15,8,15,11],[15,12,15,13],[16,0,16,3],[16,8,16,11],[13,0,13,3],[13,4,13,5],[13,8,13,11],[13,12,13,13],[14,0,14,3],[14,8,14,11],[0,0,3,3],[0,4,3,5],[0,6,17,7],[0,8,3,11],[0,12,3,13],[4,0,4,1],[4,2,4,5],[4,8,4,9],[4,10,4,13],[5,0,5,5],[9,1,9,4],[9,9,9,12],[12,0,12,3],[12,4,12,5],[12,8,12,11],[12,12,12,13],[5,8,5,13],[6,0,6,5],[6,8,6,13],[7,1,7,3],[7,9,7,11],[8,1,8,3],[8,9,8,11],[15,0,15,3]]}
["Lycée Camille Jenatzy\n06 rue Charles HERMITE\n75018\nTEL: 01 40 37 85 40\n\n\n\n",null,null,null,"CONVOCATION\nCERTIFICATION PIX",null,"\"--------------------------------------------------------------------------------------------------",null,"Lycée Camille Jenatzy\n06 rue Charles HERMITE\n75018\nTEL: 01 40 37 85 40\n\n\n\n",null,null,null,"CONVOCATION\nCERTIFICATION PIX"]
[]
[]
[]
[{"$f":"DeclarationOrga!$F14","v":0},null,{"$f":"DeclarationOrga!$D14","v":0},null,null,null,null,null,{"$f":"DeclarationOrga!$F15","v":0},null,{"$f":"DeclarationOrga!$D15","v":0}]
["Vous êtes convoqués pour passer la certification Pix obligatoire",null,null,null,null,null,null,null,"Vous êtes convoqués pour passer la certification Pix obligatoire"]
[{"$f":"CONCATENATE(\"LYCÉE : \",DeclarationOrga!$B$5)","v":"LYCÉE :  CAMILLE JENATZY 75018 PARIS"},null,null,null,null,null,null,null,{"$f":"CONCATENATE(\"LYCÉE : \",DeclarationOrga!$B$5)","v":"LYCÉE :  CAMILLE JENATZY 75018 PARIS"}]
["Classe",{"$f":"DeclarationOrga!$B$6","v":0},null,null,null,null,null,null,"Classe",{"$f":"DeclarationOrga!$B$6","v":0}]
["Professeur",{"$f":"DeclarationOrga!$B$7","v":0},null,null,null,null,null,null,"Professeur",{"$f":"DeclarationOrga!$B$7","v":0}]
["Date ",{"$f":"DeclarationOrga!$B$8","v":"00:00:00"},null,null,null,null,null,null,"Date ",{"$f":"DeclarationOrga!$B$8","v":"00:00:00"}]
["Horaire de",{"$f":"DeclarationOrga!$B$9","v":0},"à",{"$f":"DeclarationOrga!$D$9","v":0},"SALLE :",{"$f":"DeclarationOrga!$B$10","v":0},null,null,"Horaire de",{"$f":"DeclarationOrga!$B$9","v":0},"à",{"$f":"DeclarationOrga!$D$9","v":0},"SALLE :",{"$f":"DeclarationOrga!$B$10","v":0}]
[]
[]
[]
[]
[]
[]
[]
["\"-----------------------------------------------------------------------------------------------------------------------------------------------------------------------------------------------------------------------------------------------------------------------"]
[]
["Lycée Camille Jenatzy\n06 rue Charles HERMITE\n75018\nTEL: 01 40 37 85 40\n\n\n\n",null,null,null,"CONVOCATION\nCERTIFICATION PIX",null,"\"--------------------------------------------------------------------------------------------------",null,"Lycée Camille Jenatzy\n06 rue Charles HERMITE\n75018\nTEL: 01 40 37 85 40\n\n\n\n",null,null,null,"CONVOCATION\nCERTIFICATION PIX"]
[]
[]
[]
[{"$f":"DeclarationOrga!$F16","v":0},null,{"$f":"DeclarationOrga!$D16","v":0},null,null,null,null,null,{"$f":"DeclarationOrga!$F$17","v":0},null,{"$f":"DeclarationOrga!$D$17","v":0}]
["Vous êtes convoqués au contrôle en cours de formation ci-dessous",null,null,null,null,null,null,null,"Vous êtes convoqués pour passer la certification Pix obligatoire"]
[{"$f":"CONCATENATE(\"LYCÉE : \",DeclarationOrga!$B$5)","v":"LYCÉE :  CAMILLE JENATZY 75018 PARIS"},null,null,null,null,null,null,null,{"$f":"CONCATENATE(\"LYCÉE : \",DeclarationOrga!$B$5)","v":"LYCÉE :  CAMILLE JENATZY 75018 PARIS"}]
["Classe",{"$f":"DeclarationOrga!$B$6","v":0},null,null,null,null,null,null,"Classe",{"$f":"DeclarationOrga!$B$6","v":0}]
["Professeur",{"$f":"DeclarationOrga!$B$7","v":0},null,null,null,null,null,null,"Professeur",{"$f":"DeclarationOrga!$B$7","v":0}]
["Date ",{"$f":"DeclarationOrga!$B$8","v":"00:00:00"},null,null,null,null,null,null,"Date ",{"$f":"DeclarationOrga!$B$8","v":"00:00:00"}]
["Horaire de",{"$f":"DeclarationOrga!$B$9","v":0},"à",{"$f":"DeclarationOrga!$D$9","v":0},"SALLE :",{"$f":"DeclarationOrga!$B$10","v":0},null,null,"Horaire de",{"$f":"DeclarationOrga!$B$9","v":0},"à",{"$f":"DeclarationOrga!$D$9","v":0},"SALLE :",{"$f":"DeclarationOrga!$B$10","v":0}]
[]
[]
[]
[]
[]
[]
[]
["\"-----------------------------------------------------------------------------------------------------------------------------------------------------------------------------------------------------------------------------------------------------------------------"]
[]
["Lycée Camille Jenatzy\n06 rue Charles HERMITE\n75018\nTEL: 01 40 37 85 40\n\n\n\n",null,null,null,"CONVOCATION\nCERTIFICATION PIX",null,"\"--------------------------------------------------------------------------------------------------",null,"Lycée Camille Jenatzy\n06 rue Charles HERMITE\n75018\nTEL: 01 40 37 85 40\n\n\n\n",null,null,null,"CONVOCATION\nCERTIFICATION PIX"]
[]
[]
[]
[{"$f":"DeclarationOrga!$F$18","v":0},null,{"$f":"DeclarationOrga!$D$18","v":0},null,null,null,null,null,{"$f":"DeclarationOrga!$F$19","v":0},null,{"$f":"DeclarationOrga!$D$19","v":0}]
["Vous êtes convoqués pour passer la certification Pix obligatoire",null,null,null,null,null,null,null,"Vous êtes convoqués pour passer la certification Pix obligatoire"]
[{"$f":"CONCATENATE(\"LYCÉE : \",DeclarationOrga!$B$5)","v":"LYCÉE :  CAMILLE JENATZY 75018 PARIS"},null,null,null,null,null,null,null,{"$f":"CONCATENATE(\"LYCÉE : \",DeclarationOrga!$B$5)","v":"LYCÉE :  CAMILLE JENATZY 75018 PARIS"}]
["Classe",{"$f":"DeclarationOrga!$B$6","v":0},null,null,null,null,null,null,"Classe",{"$f":"DeclarationOrga!$B$6","v":0}]
["Professeur",{"$f":"DeclarationOrga!$B$7","v":0},null,null,null,null,null,null,"Professeur",{"$f":"DeclarationOrga!$B$7","v":0}]
["Date ",{"$f":"DeclarationOrga!$B$8","v":"00:00:00"},null,null,null,null,null,null,"Date ",{"$f":"DeclarationOrga!$B$8","v":"00:00:00"}]
["Horaire de",{"$f":"DeclarationOrga!$B$9","v":0},"à",{"$f":"DeclarationOrga!$D$9","v":0},"SALLE :",{"$f":"DeclarationOrga!$B$10","v":0},null,null,"Horaire de",{"$f":"DeclarationOrga!$B$9","v":0},"à",{"$f":"DeclarationOrga!$D$9","v":0},"SALLE :",{"$f":"DeclarationOrga!$B$10","v":0}]
[]
[]
[]
[]
[]
[]
[]
["\"-----------------------------------------------------------------------------------------------------------------------------------------------------------------------------------------------------------------------------------------------------------------------"]
[]
["Lycée Camille Jenatzy\n06 rue Charles HERMITE\n75018\nTEL: 01 40 37 85 40\n\n\n\n",null,null,null,"CONVOCATION\nCERTIFICATION PIX",null,"\"--------------------------------------------------------------------------------------------------",null,"Lycée Camille Jenatzy\n06 rue Charles HERMITE\n75018\nTEL: 01 40 37 85 40\n\n\n\n",null,null,null,"CONVOCATION\nCERTIFICATION PIX"]
[]
[]
[]
[{"$f":"DeclarationOrga!$F20","v":0},null,{"$f":"DeclarationOrga!$D20","v":0},null,null,null,null,null,{"$f":"DeclarationOrga!$F21","v":0},null,{"$f":"DeclarationOrga!$D21","v":0}]
["Vous êtes convoqués pour passer la certification Pix obligatoire",null,null,null,null,null,null,null,"Vous êtes convoqués pour passer la certification Pix obligatoire"]
[{"$f":"CONCATENATE(\"LYCÉE : \",DeclarationOrga!$B$5)","v":"LYCÉE :  CAMILLE JENATZY 75018 PARIS"},null,null,null,null,null,null,null,{"$f":"CONCATENATE(\"LYCÉE : \",DeclarationOrga!$B$5)","v":"LYCÉE :  CAMILLE JENATZY 75018 PARIS"}]
["Classe",{"$f":"DeclarationOrga!$B$6","v":0},null,null,null,null,null,null,"Classe",{"$f":"DeclarationOrga!$B$6","v":0}]
["Professeur",{"$f":"DeclarationOrga!$B$7","v":0},null,null,null,null,null,null,"Professeur",{"$f":"DeclarationOrga!$B$7","v":0}]
["Date ",{"$f":"DeclarationOrga!$B$8","v":"00:00:00"},null,null,null,null,null,null,"Date ",{"$f":"DeclarationOrga!$B$8","v":"00:00:00"}]
["Horaire de",{"$f":"DeclarationOrga!$B$9","v":0},"à",{"$f":"DeclarationOrga!$D$9","v":0},"SALLE :",{"$f":"DeclarationOrga!$B$10","v":0},null,null,"Horaire de",{"$f":"DeclarationOrga!$B$9","v":0},"à",{"$f":"DeclarationOrga!$D$9","v":0},"SALLE :",{"$f":"DeclarationOrga!$B$10","v":0}]
[]
[]
[]
[]
[]
[]
[]
[]
["Lycée Camille Jenatzy\n06 rue Charles HERMITE\n75018\nTEL: 01 40 37 85 40\n\n\n\n",null,null,null,"CONVOCATION\nCERTIFICATION PIX",null,"\"--------------------------------------------------------------------------------------------------",null,"Lycée Camille Jenatzy\n06 rue Charles HERMITE\n75018\nTEL: 01 40 37 85 40\n\n\n\n",null,null,null,"CONVOCATION\nCERTIFICATION PIX"]
[]
[]
[]
[{"$f":"DeclarationOrga!$F22","v":0},null,{"$f":"DeclarationOrga!$D22","v":0},null,null,null,null,null,{"$f":"DeclarationOrga!$F23","v":0},null,{"$f":"DeclarationOrga!$D23","v":0}]
["Vous êtes convoqués pour passer la certification Pix obligatoire",null,null,null,null,null,null,null,"Vous êtes convoqués pour passer la certification Pix obligatoire"]
[{"$f":"CONCATENATE(\"LYCÉE : \",DeclarationOrga!$B$5)","v":"LYCÉE :  CAMILLE JENATZY 75018 PARIS"},null,null,null,null,null,null,null,{"$f":"CONCATENATE(\"LYCÉE : \",DeclarationOrga!$B$5)","v":"LYCÉE :  CAMILLE JENATZY 75018 PARIS"}]
["Classe",{"$f":"DeclarationOrga!$B$6","v":0},null,null,null,null,null,null,"Classe",{"$f":"DeclarationOrga!$B$6","v":0}]
["Professeur",{"$f":"DeclarationOrga!$B$7","v":0},null,null,null,null,null,null,"Professeur",{"$f":"DeclarationOrga!$B$7","v":0}]
["Date ",{"$f":"DeclarationOrga!$B$8","v":"00:00:00"},null,null,null,null,null,null,"Date ",{"$f":"DeclarationOrga!$B$8","v":"00:00:00"}]
["Horaire de",{"$f":"DeclarationOrga!$B$9","v":0},"à",{"$f":"DeclarationOrga!$D$9","v":0},"SALLE :",{"$f":"DeclarationOrga!$B$10","v":0},null,null,"Horaire de",{"$f":"DeclarationOrga!$B$9","v":0},"à",{"$f":"DeclarationOrga!$D$9","v":0},"SALLE :",{"$f":"DeclarationOrga!$B$10","v":0}]
[]
[]
[]
[]
[]
[]
[]
["\"-----------------------------------------------------------------------------------------------------------------------------------------------------------------------------------------------------------------------------------------------------------------------"]
[]
["Lycée Camille Jenatzy\n06 rue Charles HERMITE\n75018\nTEL: 01 40 37 85 40\n\n\n\n",null,null,null,"CONVOCATION\nCERTIFICATION PIX",null,"\"--------------------------------------------------------------------------------------------------",null,"Lycée Camille Jenatzy\n06 rue Charles HERMITE\n75018\nTEL: 01 40 37 85 40\n\n\n\n",null,null,null,"CONVOCATION\nCERTIFICATION PIX"]
[]
[]
[]
[{"$f":"DeclarationOrga!$F24","v":0},null,{"$f":"DeclarationOrga!$D24","v":0},null,null,null,null,null,{"$f":"DeclarationOrga!$F25","v":0},null,{"$f":"DeclarationOrga!$D25","v":0}]
["Vous êtes convoqués pour passer la certification Pix obligatoire",null,null,null,null,null,null,null,"Vous êtes convoqués pour passer la certification Pix obligatoire"]
[{"$f":"CONCATENATE(\"LYCÉE : \",DeclarationOrga!$B$5)","v":"LYCÉE :  CAMILLE JENATZY 75018 PARIS"},null,null,null,null,null,null,null,{"$f":"CONCATENATE(\"LYCÉE : \",DeclarationOrga!$B$5)","v":"LYCÉE :  CAMILLE JENATZY 75018 PARIS"}]
["Classe",{"$f":"DeclarationOrga!$B$6","v":0},null,null,null,null,null,null,"Classe",{"$f":"DeclarationOrga!$B$6","v":0}]
["Professeur",{"$f":"DeclarationOrga!$B$7","v":0},null,null,null,null,null,null,"Professeur",{"$f":"DeclarationOrga!$B$7","v":0}]
["Date ",{"$f":"DeclarationOrga!$B$8","v":"00:00:00"},null,null,null,null,null,null,"Date ",{"$f":"DeclarationOrga!$B$8","v":"00:00:00"}]
["Horaire de",{"$f":"DeclarationOrga!$B$9","v":0},"à",{"$f":"DeclarationOrga!$D$9","v":0},"SALLE :",{"$f":"DeclarationOrga!$B$10","v":0},null,null,"Horaire de",{"$f":"DeclarationOrga!$B$9","v":0},"à",{"$f":"DeclarationOrga!$D$9","v":0},"SALLE :",{"$f":"DeclarationOrga!$B$10","v":0}]
[]
[]
[]
[]
[]
[]
[]
["\"-----------------------------------------------------------------------------------------------------------------------------------------------------------------------------------------------------------------------------------------------------------------------"]
[]
["Lycée Camille Jenatzy\n06 rue Charles HERMITE\n75018\nTEL: 01 40 37 85 40\n\n\n\n",null,null,null,"CONVOCATION\nCERTIFICATION PIX",null,"\"--------------------------------------------------------------------------------------------------",null,"Lycée Camille Jenatzy\n06 rue Charles HERMITE\n75018\nTEL: 01 40 37 85 40\n\n\n\n",null,null,null,"CONVOCATION\nCERTIFICATION PIX"]
[]
[]
[]
[{"$f":"DeclarationOrga!$F26","v":0},null,{"$f":"DeclarationOrga!$D26","v":0},null,null,null,null,null,{"$f":"DeclarationOrga!$F27","v":0},null,{"$f":"DeclarationOrga!$D27","v":0}]
["Vous êtes convoqués pour passer la certification Pix obligatoire",null,null,null,null,null,null,null,"Vous êtes convoqués pour passer la certification Pix obligatoire"]
[{"$f":"CONCATENATE(\"LYCÉE : \",DeclarationOrga!$B$5)","v":"LYCÉE :  CAMILLE JENATZY 75018 PARIS"},null,null,null,null,null,null,null,{"$f":"CONCATENATE(\"LYCÉE : \",DeclarationOrga!$B$5)","v":"LYCÉE :  CAMILLE JENATZY 75018 PARIS"}]
["Classe",{"$f":"DeclarationOrga!$B$6","v":0},null,null,null,null,null,null,"Classe",{"$f":"DeclarationOrga!$B$6","v":0}]
["Professeur",{"$f":"DeclarationOrga!$B$7","v":0},null,null,null,null,null,null,"Professeur",{"$f":"DeclarationOrga!$B$7","v":0}]
["Date ",{"$f":"DeclarationOrga!$B$8","v":"00:00:00"},null,null,null,null,null,null,"Date ",{"$f":"DeclarationOrga!$B$8","v":"00:00:00"}]
["Horaire de",{"$f":"DeclarationOrga!$B$9","v":0},"à",{"$f":"DeclarationOrga!$D$9","v":0},"SALLE :",{"$f":"DeclarationOrga!$B$10","v":0},null,null,"Horaire de",{"$f":"DeclarationOrga!$B$9","v":0},"à",{"$f":"DeclarationOrga!$D$9","v":0},"SALLE :",{"$f":"DeclarationOrga!$B$10","v":0}]
[]
[]
[]
[]
[]
[]
[]
["\"-----------------------------------------------------------------------------------------------------------------------------------------------------------------------------------------------------------------------------------------------------------------------"]
[]
["Lycée Camille Jenatzy\n06 rue Charles HERMITE\n75018\nTEL: 01 40 37 85 40\n\n\n\n",null,null,null,"CONVOCATION\nCERTIFICATION PIX",null,"\"--------------------------------------------------------------------------------------------------",null,"Lycée Camille Jenatzy\n06 rue Charles HERMITE\n75018\nTEL: 01 40 37 85 40\n\n\n\n",null,null,null,"CONVOCATION\nCERTIFICATION PIX"]
[]
[]
[]
[{"$f":"DeclarationOrga!$F28","v":0},null,{"$f":"DeclarationOrga!$D28","v":0},null,null,null,null,null,{"$f":"DeclarationOrga!$F29","v":0},null,{"$f":"DeclarationOrga!$D29","v":0}]
["Vous êtes convoqués pour passer la certification Pix obligatoire",null,null,null,null,null,null,null,"Vous êtes convoqués pour passer la certification Pix obligatoire"]
[{"$f":"CONCATENATE(\"LYCÉE : \",DeclarationOrga!$B$5)","v":"LYCÉE :  CAMILLE JENATZY 75018 PARIS"},null,null,null,null,null,null,null,{"$f":"CONCATENATE(\"LYCÉE : \",DeclarationOrga!$B$5)","v":"LYCÉE :  CAMILLE JENATZY 75018 PARIS"}]
["Classe",{"$f":"DeclarationOrga!$B$6","v":0},null,null,null,null,null,null,"Classe",{"$f":"DeclarationOrga!$B$6","v":0}]
["Professeur",{"$f":"DeclarationOrga!$B$7","v":0},null,null,null,null,null,null,"Professeur",{"$f":"DeclarationOrga!$B$7","v":0}]
["Date ",{"$f":"DeclarationOrga!$B$8","v":"00:00:00"},null,null,null,null,null,null,"Date ",{"$f":"DeclarationOrga!$B$8","v":"00:00:00"}]
["Horaire de",{"$f":"DeclarationOrga!$B$9","v":0},"à",{"$f":"DeclarationOrga!$D$9","v":0},"SALLE :",{"$f":"DeclarationOrga!$B$10","v":0},null,null,"Horaire de",{"$f":"DeclarationOrga!$B$9","v":0},"à",{"$f":"DeclarationOrga!$D$9","v":0},"SALLE :",{"$f":"DeclarationOrga!$B$10","v":0}]
[]
[]
[]
[]
[]
[]
[]
[]
["Lycée Camille Jenatzy\n06 rue Charles HERMITE\n75018\nTEL: 01 40 37 85 40\n\n\n\n",null,null,null,"CONVOCATION\nCERTIFICATION PIX",null,"\"--------------------------------------------------------------------------------------------------",null,"Lycée Camille Jenatzy\n06 rue Charles HERMITE\n75018\nTEL: 01 40 37 85 40\n\n\n\n",null,null,null,"CONVOCATION\nCERTIFICATION PIX"]
[]
[]
[]
[{"$f":"DeclarationOrga!$F30","v":0},null,{"$f":"DeclarationOrga!$D30","v":0},null,null,null,null,null,{"$f":"DeclarationOrga!$F31","v":0},null,{"$f":"DeclarationOrga!$D31","v":0}]
["Vous êtes convoqués pour passer la certification Pix obligatoire",null,null,null,null,null,null,null,"Vous êtes convoqués pour passer la certification Pix obligatoire"]
[{"$f":"CONCATENATE(\"LYCÉE : \",DeclarationOrga!$B$5)","v":"LYCÉE :  CAMILLE JENATZY 75018 PARIS"},null,null,null,null,null,null,null,{"$f":"CONCATENATE(\"LYCÉE : \",DeclarationOrga!$B$5)","v":"LYCÉE :  CAMILLE JENATZY 75018 PARIS"}]
["Classe",{"$f":"DeclarationOrga!$B$6","v":0},null,null,null,null,null,null,"Classe",{"$f":"DeclarationOrga!$B$6","v":0}]
["Professeur",{"$f":"DeclarationOrga!$B$7","v":0},null,null,null,null,null,null,"Professeur",{"$f":"DeclarationOrga!$B$7","v":0}]
["Date ",{"$f":"DeclarationOrga!$B$8","v":"00:00:00"},null,null,null,null,null,null,"Date ",{"$f":"DeclarationOrga!$B$8","v":"00:00:00"}]
["Horaire de",{"$f":"DeclarationOrga!$B$9","v":0},"à",{"$f":"DeclarationOrga!$D$9","v":0},"SALLE :",{"$f":"DeclarationOrga!$B$10","v":0},null,null,"Horaire de",{"$f":"DeclarationOrga!$B$9","v":0},"à",{"$f":"DeclarationOrga!$D$9","v":0},"SALLE :",{"$f":"DeclarationOrga!$B$10","v":0}]
[]
[]
[]
[]
[]
[]
[]
["\"-----------------------------------------------------------------------------------------------------------------------------------------------------------------------------------------------------------------------------------------------------------------------"]
[]
["Lycée Camille Jenatzy\n06 rue Charles HERMITE\n75018\nTEL: 01 40 37 85 40\n\n\n\n",null,null,null,"CONVOCATION\nCERTIFICATION PIX",null,"\"--------------------------------------------------------------------------------------------------",null,"Lycée Camille Jenatzy\n06 rue Charles HERMITE\n75018\nTEL: 01 40 37 85 40\n\n\n\n",null,null,null,"CONVOCATION\nCERTIFICATION PIX"]
[]
[]
[]
[{"$f":"DeclarationOrga!$F32","v":0},null,{"$f":"DeclarationOrga!$D32","v":0},null,null,null,null,null,{"$f":"DeclarationOrga!$F33","v":0},null,{"$f":"DeclarationOrga!$D33","v":0}]
["Vous êtes convoqués pour passer la certification Pix obligatoire",null,null,null,null,null,null,null,"Vous êtes convoqués pour passer la certification Pix obligatoire"]
[{"$f":"CONCATENATE(\"LYCÉE : \",DeclarationOrga!$B$5)","v":"LYCÉE :  CAMILLE JENATZY 75018 PARIS"},null,null,null,null,null,null,null,{"$f":"CONCATENATE(\"LYCÉE : \",DeclarationOrga!$B$5)","v":"LYCÉE :  CAMILLE JENATZY 75018 PARIS"}]
["Classe",{"$f":"DeclarationOrga!$B$6","v":0},null,null,null,null,null,null,"Classe",{"$f":"DeclarationOrga!$B$6","v":0}]
["Professeur",{"$f":"DeclarationOrga!$B$7","v":0},null,null,null,null,null,null,"Professeur",{"$f":"DeclarationOrga!$B$7","v":0}]
["Date ",{"$f":"DeclarationOrga!$B$8","v":"00:00:00"},null,null,null,null,null,null,"Date ",{"$f":"DeclarationOrga!$B$8","v":"00:00:00"}]
["Horaire de",{"$f":"DeclarationOrga!$B$9","v":0},"à",{"$f":"DeclarationOrga!$D$9","v":0},"SALLE :",{"$f":"DeclarationOrga!$B$10","v":0},null,null,"Horaire de",{"$f":"DeclarationOrga!$B$9","v":0},"à",{"$f":"DeclarationOrga!$D$9","v":0},"SALLE :",{"$f":"DeclarationOrga!$B$10","v":0}]
[]
[]
[]
[]
[]
[]
[]
["\"-----------------------------------------------------------------------------------------------------------------------------------------------------------------------------------------------------------------------------------------------------------------------"]
[]
["Lycée Camille Jenatzy\n06 rue Charles HERMITE\n75018\nTEL: 01 40 37 85 40\n\n\n\n",null,null,null,"CONVOCATION\nCERTIFICATION PIX",null,"\"--------------------------------------------------------------------------------------------------",null,"Lycée Camille Jenatzy\n06 rue Charles HERMITE\n75018\nTEL: 01 40 37 85 40\n\n\n\n",null,null,null,"CONVOCATION\nCERTIFICATION PIX"]
[]
[]
[]
[{"$f":"DeclarationOrga!$F34","v":0},null,{"$f":"DeclarationOrga!$D34","v":0},null,null,null,null,null,{"$f":"DeclarationOrga!$F35","v":0},null,{"$f":"DeclarationOrga!$D35","v":0}]
["Vous êtes convoqués pour passer la certification Pix obligatoire",null,null,null,null,null,null,null,"Vous êtes convoqués pour passer la certification Pix obligatoire"]
[{"$f":"CONCATENATE(\"LYCÉE : \",DeclarationOrga!$B$5)","v":"LYCÉE :  CAMILLE JENATZY 75018 PARIS"},null,null,null,null,null,null,null,{"$f":"CONCATENATE(\"LYCÉE : \",DeclarationOrga!$B$5)","v":"LYCÉE :  CAMILLE JENATZY 75018 PARIS"}]
["Classe",{"$f":"DeclarationOrga!$B$6","v":0},null,null,null,null,null,null,"Classe",{"$f":"DeclarationOrga!$B$6","v":0}]
["Professeur",{"$f":"DeclarationOrga!$B$7","v":0},null,null,null,null,null,null,"Professeur",{"$f":"DeclarationOrga!$B$7","v":0}]
["Date ",{"$f":"DeclarationOrga!$B$8","v":"00:00:00"},null,null,null,null,null,null,"Date ",{"$f":"DeclarationOrga!$B$8","v":"00:00:00"}]
["Horaire de",{"$f":"DeclarationOrga!$B$9","v":0},"à",{"$f":"DeclarationOrga!$D$9","v":0},"SALLE :",{"$f":"DeclarationOrga!$B$10","v":0},null,null,"Horaire de",{"$f":"DeclarationOrga!$B$9","v":0},"à",{"$f":"DeclarationOrga!$D$9","v":0},"SALLE :",{"$f":"DeclarationOrga!$B$10","v":0}]
[]
[]
[]
[]
[]
[]
[]
["\"-----------------------------------------------------------------------------------------------------------------------------------------------------------------------------------------------------------------------------------------------------------------------"]
[]
["Lycée Camille Jenatzy\n06 rue Charles HERMITE\n75018\nTEL: 01 40 37 85 40\n\n\n\n",null,null,null,"CONVOCATION\nCERTIFICATION PIX",null,"\"--------------------------------------------------------------------------------------------------",null,"Lycée Camille Jenatzy\n06 rue Charles HERMITE\n75018\nTEL: 01 40 37 85 40\n\n\n\n",null,null,null,"CONVOCATION\nCERTIFICATION PIX"]
[]
[]
[]
[{"$f":"DeclarationOrga!$F36","v":0},null,{"$f":"DeclarationOrga!$D36","v":0},null,null,null,null,null,{"$f":"DeclarationOrga!$F37","v":0},null,{"$f":"DeclarationOrga!$D37","v":0}]
["Vous êtes convoqués pour passer la certification Pix obligatoire",null,null,null,null,null,null,null,"Vous êtes convoqués pour passer la certification Pix obligatoire"]
[{"$f":"CONCATENATE(\"LYCÉE : \",DeclarationOrga!$B$5)","v":"LYCÉE :  CAMILLE JENATZY 75018 PARIS"},null,null,null,null,null,null,null,{"$f":"CONCATENATE(\"LYCÉE : \",DeclarationOrga!$B$5)","v":"LYCÉE :  CAMILLE JENATZY 75018 PARIS"}]
["Classe",{"$f":"DeclarationOrga!$B$6","v":0},null,null,null,null,null,null,"Classe",{"$f":"DeclarationOrga!$B$6","v":0}]
["Professeur",{"$f":"DeclarationOrga!$B$7","v":0},null,null,null,null,null,null,"Professeur",{"$f":"DeclarationOrga!$B$7","v":0}]
["Date ",{"$f":"DeclarationOrga!$B$8","v":"00:00:00"},null,null,null,null,null,null,"Date ",{"$f":"DeclarationOrga!$B$8","v":"00:00:00"}]
["Horaire de",{"$f":"DeclarationOrga!$B$9","v":0},"à",{"$f":"DeclarationOrga!$D$9","v":0},"SALLE :",{"$f":"DeclarationOrga!$B$10","v":0},null,null,"Horaire de",{"$f":"DeclarationOrga!$B$9","v":0},"à",{"$f":"DeclarationOrga!$D$9","v":0},"SALLE :",{"$f":"DeclarationOrga!$B$10","v":0}]
[]
[]
[]
[]
[]
[]
[]
[]
["Lycée Camille Jenatzy\n06 rue Charles HERMITE\n75018\nTEL: 01 40 37 85 40\n\n\n\n",null,null,null,"CONVOCATION\nCERTIFICATION PIX",null,"\"--------------------------------------------------------------------------------------------------",null,"Lycée Camille Jenatzy\n06 rue Charles HERMITE\n75018\nTEL: 01 40 37 85 40\n\n\n\n",null,null,null,"CONVOCATION\nCERTIFICATION PIX"]
[]
[]
[]
[{"$f":"DeclarationOrga!$F38","v":0},null,{"$f":"DeclarationOrga!$D38","v":0},null,null,null,null,null,{"$f":"DeclarationOrga!$F39","v":0},null,{"$f":"DeclarationOrga!$D39","v":0}]
["Vous êtes convoqués pour passer la certification Pix obligatoire",null,null,null,null,null,null,null,"Vous êtes convoqués pour passer la certification Pix obligatoire"]
[{"$f":"CONCATENATE(\"LYCÉE : \",DeclarationOrga!$B$5)","v":"LYCÉE :  CAMILLE JENATZY 75018 PARIS"},null,null,null,null,null,null,null,{"$f":"CONCATENATE(\"LYCÉE : \",DeclarationOrga!$B$5)","v":"LYCÉE :  CAMILLE JENATZY 75018 PARIS"}]
["Classe",{"$f":"DeclarationOrga!$B$6","v":0},null,null,null,null,null,null,"Classe",{"$f":"DeclarationOrga!$B$6","v":0}]
["Professeur",{"$f":"DeclarationOrga!$B$7","v":0},null,null,null,null,null,null,"Professeur",{"$f":"DeclarationOrga!$B$7","v":0}]
["Date ",{"$f":"DeclarationOrga!$B$8","v":"00:00:00"},null,null,null,null,null,null,"Date ",{"$f":"DeclarationOrga!$B$8","v":"00:00:00"}]
["Horaire de",{"$f":"DeclarationOrga!$B$9","v":0},"à",{"$f":"DeclarationOrga!$D$9","v":0},"SALLE :",{"$f":"DeclarationOrga!$B$10","v":0},null,null,"Horaire de",{"$f":"DeclarationOrga!$B$9","v":0},"à",{"$f":"DeclarationOrga!$D$9","v":0},"SALLE :",{"$f":"DeclarationOrga!$B$10","v":0}]
[]
[]
[]
[]
[]
[]
[]
["\"-----------------------------------------------------------------------------------------------------------------------------------------------------------------------------------------------------------------------------------------------------------------------"]
[]
["Lycée Camille Jenatzy\n06 rue Charles HERMITE\n75018\nTEL: 01 40 37 85 40\n\n\n\n",null,null,null,"CONVOCATION\nCERTIFICATION PIX",null,"\"--------------------------------------------------------------------------------------------------",null,"Lycée Camille Jenatzy\n06 rue Charles HERMITE\n75018\nTEL: 01 40 37 85 40\n\n\n\n",null,null,null,"CONVOCATION\nCERTIFICATION PIX"]
[]
[]
[]
[{"$f":"DeclarationOrga!$F40","v":0},null,{"$f":"DeclarationOrga!$D40","v":0},null,null,null,null,null,{"$f":"DeclarationOrga!$F41","v":0},null,{"$f":"DeclarationOrga!$D41","v":0}]
["Vous êtes convoqués pour passer la certification Pix obligatoire",null,null,null,null,null,null,null,"Vous êtes convoqués pour passer la certification Pix obligatoire"]
[{"$f":"CONCATENATE(\"LYCÉE : \",DeclarationOrga!$B$5)","v":"LYCÉE :  CAMILLE JENATZY 75018 PARIS"},null,null,null,null,null,null,null,{"$f":"CONCATENATE(\"LYCÉE : \",DeclarationOrga!$B$5)","v":"LYCÉE :  CAMILLE JENATZY 75018 PARIS"}]
["Classe",{"$f":"DeclarationOrga!$B$6","v":0},null,null,null,null,null,null,"Classe",{"$f":"DeclarationOrga!$B$6","v":0}]
["Professeur",{"$f":"DeclarationOrga!$B$7","v":0},null,null,null,null,null,null,"Professeur",{"$f":"DeclarationOrga!$B$7","v":0}]
["Date ",{"$f":"DeclarationOrga!$B$8","v":"00:00:00"},null,null,null,null,null,null,"Date ",{"$f":"DeclarationOrga!$B$8","v":"00:00:00"}]
["Horaire de",{"$f":"DeclarationOrga!$B$9","v":0},"à",{"$f":"DeclarationOrga!$D$9","v":0},"SALLE :",{"$f":"DeclarationOrga!$B$10","v":0},null,null,"Horaire de",{"$f":"DeclarationOrga!$B$9","v":0},"à",{"$f":"DeclarationOrga!$D$9","v":0},"SALLE :",{"$f":"DeclarationOrga!$B$10","v":0}]
[]
[]
[]
[]
[]
[]
[]
["\"-----------------------------------------------------------------------------------------------------------------------------------------------------------------------------------------------------------------------------------------------------------------------"]
[]
["Lycée Camille Jenatzy\n06 rue Charles HERMITE\n75018\nTEL: 01 40 37 85 40\n\n\n\n",null,null,null,"CONVOCATION\nCERTIFICATION PIX",null,"\"--------------------------------------------------------------------------------------------------",null,"Lycée Camille Jenatzy\n06 rue Charles HERMITE\n75018\nTEL: 01 40 37 85 40\n\n\n\n",null,null,null,"CONVOCATION\nCERTIFICATION PIX"]
[]
[]
[]
[{"$f":"DeclarationOrga!$F42","v":0},null,{"$f":"DeclarationOrga!$D42","v":0},null,null,null,null,null,{"$f":"DeclarationOrga!$F43","v":0},null,{"$f":"DeclarationOrga!$D43","v":0}]
["Vous êtes convoqués pour passer la certification Pix obligatoire",null,null,null,null,null,null,null,"Vous êtes convoqués pour passer la certification Pix obligatoire"]
[{"$f":"CONCATENATE(\"LYCÉE : \",DeclarationOrga!$B$5)","v":"LYCÉE :  CAMILLE JENATZY 75018 PARIS"},null,null,null,null,null,null,null,{"$f":"CONCATENATE(\"LYCÉE : \",DeclarationOrga!$B$5)","v":"LYCÉE :  CAMILLE JENATZY 75018 PARIS"}]
["Classe",{"$f":"DeclarationOrga!$B$6","v":0},null,null,null,null,null,null,"Classe",{"$f":"DeclarationOrga!$B$6","v":0}]
["Professeur",{"$f":"DeclarationOrga!$B$7","v":0},null,null,null,null,null,null,"Professeur",{"$f":"DeclarationOrga!$B$7","v":0}]
["Date ",{"$f":"DeclarationOrga!$B$8","v":"00:00:00"},null,null,null,null,null,null,"Date ",{"$f":"DeclarationOrga!$B$8","v":"00:00:00"}]
["Horaire de",{"$f":"DeclarationOrga!$B$9","v":0},"à",{"$f":"DeclarationOrga!$D$9","v":0},"SALLE :",{"$f":"DeclarationOrga!$B$10","v":0},null,null,"Horaire de",{"$f":"DeclarationOrga!$B$9","v":0},"à",{"$f":"DeclarationOrga!$D$9","v":0},"SALLE :",{"$f":"DeclarationOrga!$B$10","v":0}]
[]
[]
[]
[]
[]
[]
[]
["\"-----------------------------------------------------------------------------------------------------------------------------------------------------------------------------------------------------------------------------------------------------------------------"]
[]
["Lycée Camille Jenatzy\n06 rue Charles HERMITE\n75018\nTEL: 01 40 37 85 40\n\n\n\n",null,null,null,"CONVOCATION\nCERTIFICATION PIX",null,"\"--------------------------------------------------------------------------------------------------",null,"Lycée Camille Jenatzy\n06 rue Charles HERMITE\n75018\nTEL: 01 40 37 85 40\n\n\n\n",null,null,null,"CONVOCATION\nCERTIFICATION PIX"]
[]
[]
[]
[{"$f":"DeclarationOrga!$F45","v":0},null,{"$f":"DeclarationOrga!$D45","v":0},null,null,null,null,null,{"$f":"DeclarationOrga!#REF!","v":{"$error":"#REF!"}},null,{"$f":"DeclarationOrga!#REF!","v":{"$error":"#REF!"}}]
["Vous êtes convoqués pour passer la certification Pix obligatoire",null,null,null,null,null,null,null,"Vous êtes convoqués pour passer la certification Pix obligatoire"]
[{"$f":"CONCATENATE(\"LYCÉE : \",DeclarationOrga!$B$5)","v":"LYCÉE :  CAMILLE JENATZY 75018 PARIS"},null,null,null,null,null,null,null,{"$f":"CONCATENATE(\"LYCÉE : \",DeclarationOrga!$B$5)","v":"LYCÉE :  CAMILLE JENATZY 75018 PARIS"}]
["Classe",{"$f":"DeclarationOrga!$B$6","v":0},null,null,null,null,null,null,"Classe",{"$f":"DeclarationOrga!$B$6","v":0}]
["Professeur",{"$f":"DeclarationOrga!$B$7","v":0},null,null,null,null,null,null,"Professeur",{"$f":"DeclarationOrga!$B$7","v":0}]
["Date ",{"$f":"DeclarationOrga!$B$8","v":"00:00:00"},null,null,null,null,null,null,"Date ",{"$f":"DeclarationOrga!$B$8","v":"00:00:00"}]
["Horaire de",{"$f":"DeclarationOrga!$B$9","v":0},"à",{"$f":"DeclarationOrga!$D$9","v":0},"SALLE :",{"$f":"DeclarationOrga!$B$10","v":0},null,null,"Horaire de",{"$f":"DeclarationOrga!$B$9","v":0},"à",{"$f":"DeclarationOrga!$D$9","v":0},"SALLE :",{"$f":"DeclarationOrga!$B$10","v":0}]